BEGIN:VCALENDAR
CALSCALE:GREGORIAN
PRODID:Meijigakuin Club Events
VERSION:2.0
BEGIN:VEVENT
DTSTAMP:20241221T143000Z
TZID:Asia/Tokyo
UID:12882
SUMMARY:体育会アメリカンフットボール部 秋季リーグ戦
LOCATION:アミノバイタルフィールド
DTSTART;VALUE=DATE:20241220
END:VEVENT
END:VCALENDAR
